BEGIN:VCALENDAR
VERSION:2.0
PRODID:-//Comedy Mix - ECPv4.6.16//NONSGML v1.0//EN
CALSCALE:GREGORIAN
METHOD:PUBLISH
X-WR-CALNAME:Comedy Mix
X-ORIGINAL-URL:https://comedy-mix.de
X-WR-CALDESC:Veranstaltungen für Comedy Mix
BEGIN:VEVENT
DTSTART;TZID=Europe/Berlin:20240301T200000
DTEND;TZID=Europe/Berlin:20240301T220000
DTSTAMP:20260423T083713
CREATED:20240110T173243Z
LAST-MODIFIED:20240302T085239Z
UID:4440-1709323200-1709330400@comedy-mix.de
SUMMARY:Comedy Mix am 01.03.2024 im E-Werk Erlangen
DESCRIPTION:Diesmal mit: \nMatthais Romir\,\nmatthiasromir.de \nSonja Hingmann\,\nComedy Slam \nIsmail Hry\,\ninstagram.com/ismail.hry \nMichael Blume\,\nmichaleblume.de \nChristof Neuner\,\nComedy Neuling \nComedy Mix am 01.03.2024 im E-Werk Erlangen
URL:https://comedy-mix.de/termin/comedy-mix-am-01-03-2024-im-e-werk-erlangen/
LOCATION:Fuchsenwiese 1\, Erlangen\, 91054
END:VEVENT
END:VCALENDAR