BEGIN:VCALENDAR
VERSION:2.0
PRODID:-//Comedy Mix - ECPv4.6.16//NONSGML v1.0//EN
CALSCALE:GREGORIAN
METHOD:PUBLISH
X-WR-CALNAME:Comedy Mix
X-ORIGINAL-URL:https://comedy-mix.de
X-WR-CALDESC:Veranstaltungen für Comedy Mix
BEGIN:VEVENT
DTSTART;TZID=Europe/Berlin:20230203T200000
DTEND;TZID=Europe/Berlin:20230203T220000
DTSTAMP:20260423T161719
CREATED:20230103T133835Z
LAST-MODIFIED:20230126T123645Z
UID:4336-1675454400-1675461600@comedy-mix.de
SUMMARY:Comedy Mix am 03.02.2023 im E-Werk Erlangen
DESCRIPTION:Diesmal mit: \nMatze Breun\,\nmatze-magie.de \nOliver Walter\,\nwalter-oliver.de \nKarl Zwieback\,\ninstagram.com/karlzwieback \nLida Marfey\,\nPoetry Slam \nFrischluftprinz\,\nMusik Comedy \nComedy Mix am 03.02.2023 im E-Werk Erlangen
URL:https://comedy-mix.de/termin/comedy-mix-am-02-02-2023-im-e-werk-erlangen/
LOCATION:Fuchsenwiese 1\, Erlangen\, 91054
END:VEVENT
END:VCALENDAR