BEGIN:VCALENDAR
VERSION:2.0
PRODID:-//Comedy Mix - ECPv4.6.16//NONSGML v1.0//EN
CALSCALE:GREGORIAN
METHOD:PUBLISH
X-WR-CALNAME:Comedy Mix
X-ORIGINAL-URL:https://comedy-mix.de
X-WR-CALDESC:Veranstaltungen für Comedy Mix
BEGIN:VEVENT
DTSTART;TZID=Europe/Berlin:20230202T200000
DTEND;TZID=Europe/Berlin:20230202T220000
DTSTAMP:20260423T144826
CREATED:20230103T134129Z
LAST-MODIFIED:20230126T121605Z
UID:4341-1675368000-1675375200@comedy-mix.de
SUMMARY:Comedy Mix am 02.02.2023 in der Kulturwerkstatt Auf AEG in Nürnberg
DESCRIPTION:Matze Breun\,\nmatze-magie.de \nOliver Walter\,\nwalter-oliver.de \nKarl Zwieback\,\ninstagram.com/karlzwieback \nLida Marfey\,\nPoetry Slam \n  \nComedy Mix am 02.02.2023 in der Kulturwerkstatt Auf AEG in Nürnberg
URL:https://comedy-mix.de/termin/comedy-mix-am-02-02-2023-in-der-kulturwerkstatt-auf-aeg-in-nuernberg/
LOCATION:Fürther Str. 244d\, Nürnberg\, 90429
END:VEVENT
END:VCALENDAR