BEGIN:VCALENDAR
VERSION:2.0
PRODID:-//Comedy Mix - ECPv4.6.16//NONSGML v1.0//EN
CALSCALE:GREGORIAN
METHOD:PUBLISH
X-WR-CALNAME:Comedy Mix
X-ORIGINAL-URL:https://comedy-mix.de
X-WR-CALDESC:Veranstaltungen für Comedy Mix
BEGIN:VEVENT
DTSTART;TZID=Europe/Berlin:20231102T200000
DTEND;TZID=Europe/Berlin:20231102T220000
DTSTAMP:20260423T144806
CREATED:20230901T150608Z
LAST-MODIFIED:20231023T174644Z
UID:4396-1698955200-1698962400@comedy-mix.de
SUMMARY:Comedy Mix am 02.11.2023 in der Kulturwerkstatt Auf AEG in Nürnberg
DESCRIPTION:Diesmal mit: \nMarc Adams\,\nmarc-adams-jimdo.com \nRalf Winkelbeiner\,\nralf-winkelbeiner.de \nEric  Damster\,\nericdamster.de.de \nChristian Schiffer\,\nschiffer-comdey.de \n  \nComedy Mix am 02.11.2023 in der Kulturwerkstatt Auf AEG in Nürnberg
URL:https://comedy-mix.de/termin/comedy-mix-am-02-11-2023-in-der-kulturwerkstatt-auf-aeg-in-nuernberg/
END:VEVENT
END:VCALENDAR