BEGIN:VCALENDAR
VERSION:2.0
PRODID:-//Comedy Mix - ECPv4.6.16//NONSGML v1.0//EN
CALSCALE:GREGORIAN
METHOD:PUBLISH
X-WR-CALNAME:Comedy Mix
X-ORIGINAL-URL:https://comedy-mix.de
X-WR-CALDESC:Veranstaltungen für Comedy Mix
BEGIN:VEVENT
DTSTART;TZID=Europe/Berlin:20221103T200000
DTEND;TZID=Europe/Berlin:20221103T220000
DTSTAMP:20260423T100421
CREATED:20220911T050631Z
LAST-MODIFIED:20221030T070127Z
UID:4305-1667505600-1667512800@comedy-mix.de
SUMMARY:Comedy Mix am 03.11.2022 in der Kulturwerkstatt Auf AEG in Nürnberg
DESCRIPTION:Diesmal mit: \nSpasskoffer\,\nSpasskoffer.de \nRoland Eugen Beiküfner\,\nbeiküfner-artworks.de \nDietmar Wielgosch\,\nComedy Slam \nLarissa Fiedler\,\nComedy Newcomer \n  \nComedy Mix am 03.11.2022 in der Kulturwerkstatt Auf AEG in Nürnberg
URL:https://comedy-mix.de/termin/comedy-mix-am-03-11-2022-in-der-kulturwerkstatt-auf-aeg-in-nuernberg/
LOCATION:Fürther Str. 244d\, Nürnberg\, 90429
END:VEVENT
END:VCALENDAR