BEGIN:VCALENDAR
VERSION:2.0
PRODID:-//Comedy Mix - ECPv4.6.16//NONSGML v1.0//EN
CALSCALE:GREGORIAN
METHOD:PUBLISH
X-WR-CALNAME:Comedy Mix
X-ORIGINAL-URL:https://comedy-mix.de
X-WR-CALDESC:Veranstaltungen für Comedy Mix
BEGIN:VEVENT
DTSTART;TZID=Europe/Berlin:20211104T200000
DTEND;TZID=Europe/Berlin:20211104T220000
DTSTAMP:20260423T114020
CREATED:20211011T094412Z
LAST-MODIFIED:20211029T131400Z
UID:4273-1636056000-1636063200@comedy-mix.de
SUMMARY:Comedy Mix am 04.11.2021 in der Kulturwerkstatt Auf AEG in Nürnberg
DESCRIPTION:Diesmal mit: \nBätz Comedy\,\nSimplythebaetz \nPascal Thieme\,\nzaubererpascal \nLüder Warnken\,\nlueder-warnken.de \nEnsemble Eierlikör\,\nClwons Theater \nMäc Uwe\,\nNewcomer \nComedy Mix am 04.11.2021 in der Kulturwerkstatt Auf AEG in Nürnberg
URL:https://comedy-mix.de/termin/comedy-mix-am-04-11-2021-in-der-kulturwerkstatt-auf-aeg-in-nuernberg/
LOCATION:Fürther Str. 244d\, Nürnberg\, 90429
END:VEVENT
END:VCALENDAR