BEGIN:VCALENDAR
VERSION:2.0
PRODID:-//Comedy Mix - ECPv4.6.16//NONSGML v1.0//EN
CALSCALE:GREGORIAN
METHOD:PUBLISH
X-WR-CALNAME:Comedy Mix
X-ORIGINAL-URL:https://comedy-mix.de
X-WR-CALDESC:Veranstaltungen für Comedy Mix
BEGIN:VEVENT
DTSTART;TZID=Europe/Berlin:20211105T200000
DTEND;TZID=Europe/Berlin:20211105T220000
DTSTAMP:20260423T102028
CREATED:20211011T095635Z
LAST-MODIFIED:20211029T131254Z
UID:4278-1636142400-1636149600@comedy-mix.de
SUMMARY:Comedy Mix am 05.11.2021 im E-Werk Erlangen
DESCRIPTION:Diesmal mit: \nBätz Comedy\,\nSimplythebaetz \nPascal Thieme\,\nzaubererpascal \nLüder Warnken\,\nlueder-warnken.de \nEnsemble Eierlikör\,\nClwons Theater \nTom Lenk\,\nDer Stadtführer \nComedy Mix am 05.11.2021 im E-Werk Erlangen
URL:https://comedy-mix.de/termin/comedy-mix-am-05-11-2021-im-e-werk-erlangen/
LOCATION:Fuchsenwiese 1\, Erlangen\, 91054
END:VEVENT
END:VCALENDAR