BEGIN:VCALENDAR
VERSION:2.0
PRODID:-//Comedy Mix - ECPv4.6.16//NONSGML v1.0//EN
CALSCALE:GREGORIAN
METHOD:PUBLISH
X-WR-CALNAME:Comedy Mix
X-ORIGINAL-URL:https://comedy-mix.de
X-WR-CALDESC:Veranstaltungen für Comedy Mix
BEGIN:VEVENT
DTSTART;TZID=Europe/Berlin:20221006T200000
DTEND;TZID=Europe/Berlin:20221006T220000
DTSTAMP:20260423T084610
CREATED:20220905T162011Z
LAST-MODIFIED:20221001T131107Z
UID:4295-1665086400-1665093600@comedy-mix.de
SUMMARY:Comedy Mix am 06.10.2022 in der Kulturwerkstatt Auf AEG in Nürnberg
DESCRIPTION:Diesmal mit: \nMatthias Gietl\,\nmatthias-gietl.de \nSonja Hingmann\,\nComedy Slam \nPhilipp Reeves\,\nPhilippreeves \nZWEII\,\nfacebook.com/judithundmiriamgeissler \n  \nComedy Mix am 06.10.2022 in der Kulturwerkstatt Auf AEG in Nürnberg
URL:https://comedy-mix.de/termin/comedy-mix-am-06-10-2022-in-der-kulturwerkstatt-auf-aeg-in-nuernberg/
LOCATION:Fürther Str. 244d\, Nürnberg\, 90429
END:VEVENT
END:VCALENDAR